BEGIN:VCALENDAR
VERSION:2.0
PRODID:-//Center For Manufacturing Technology - ECPv6.15.17//NONSGML v1.0//EN
CALSCALE:GREGORIAN
METHOD:PUBLISH
X-WR-CALNAME:Center For Manufacturing Technology
X-ORIGINAL-URL:https://www.customtrainingcenter.com
X-WR-CALDESC:Events for Center For Manufacturing Technology
REFRESH-INTERVAL;VALUE=DURATION:PT1H
X-Robots-Tag:noindex
X-PUBLISHED-TTL:PT1H
BEGIN:VTIMEZONE
TZID:UTC
BEGIN:STANDARD
TZOFFSETFROM:+0000
TZOFFSETTO:+0000
TZNAME:UTC
DTSTART:20220101T000000
END:STANDARD
END:VTIMEZONE
BEGIN:VEVENT
DTSTART;TZID=UTC:20231218T080000
DTEND;TZID=UTC:20231221T130000
DTSTAMP:20260421T083754
CREATED:20231127T203655Z
LAST-MODIFIED:20231127T203655Z
UID:10000002-1702886400-1703163600@www.customtrainingcenter.com
SUMMARY:CNC Milling Set Up
DESCRIPTION:Here is the CNC Milling Set Up description.
URL:https://www.customtrainingcenter.com/calendar/cnc-milling-set-up/
LOCATION:Center for Manufacturing Technology\, 30 Nashua Street\, Woburn\, 01801\, United States
ORGANIZER;CN="Joanna Dowling":MAILTO:jdowling@customgroupusa.com
END:VEVENT
END:VCALENDAR